BEGIN:VCALENDAR
VERSION:2.0
PRODID:-//ChamberMaster//Event Calendar 2.0//EN
METHOD:PUBLISH
X-PUBLISHED-TTL:P1H
REFRESH-INTERVAL:P1H
CALSCALE:GREGORIAN
BEGIN:VTIMEZONE
TZID:America/New_York
BEGIN:DAYLIGHT
RRULE:FREQ=YEARLY;BYMONTH=3;BYDAY=2SU
DTSTART:20070101T000000
TZOFFSETFROM:-0500
TZOFFSETTO:-0400
TZNAME:Eastern Daylight Time
END:DAYLIGHT
BEGIN:STANDARD
RRULE:FREQ=YEARLY;BYMONTH=11;BYDAY=1SU
DTSTART:20070101T000000
TZOFFSETFROM:-0400
TZOFFSETTO:-0500
TZNAME:Eastern Standard Time
END:STANDARD
END:VTIMEZONE
BEGIN:VEVENT
DTSTART;TZID=America/New_York:20260526T190000
DTEND;TZID=America/New_York:20260526T200000
X-MICROSOFT-CDO-ALLDAYEVENT:FALSE
SUMMARY:EMRA & ACMT Webinar: The Crashing Tox Patient
DESCRIPTION:Join EMRA and ACMT for a high-yield webinar on critical care toxicology:\n\nThe Crashing Tox Patient\nFeaturing Dr. Gillian Beauchamp\, FASAM\, FACEP\, FACMT - ACMT Board of Directors member\, and board-certified emergency physician/medical toxicologist\n\nTuesday\, May 16\n7:00 PM ET\nVia Zoom\n\nThis high-yield session will focus on the recognition and management of the critically ill toxicology patient - where physiology\, pharmacology\, and resuscitation intersect\, highlighting how this expertise adds both thrill and professional satisfaction to an EM career through medical toxicology training. This talk will be followed by a live Q&A with medical toxicology fellows from the American College of Medical Toxicology (ACMT).\n\nDon’t miss this opportunity to sharpen your approach to high-stakes tox cases and connect with experts in the field!
X-ALT-DESC;FMTTYPE=text/html:Join EMRA and ACMT for a high-yield webinar on critical care toxicology:\n\nThe Crashing Tox Patient\nFeaturing Dr. Gillian Beauchamp\, FASAM\, FACEP\, FACMT - ACMT Board of Directors member\, and board-certified emergency physician/medical toxicologist\n\nTuesday\, May 16\n7:00 PM ET\nVia Zoom\n\nThis high-yield session will focus on the recognition and management of the critically ill toxicology patient - where physiology\, pharmacology\, and resuscitation intersect\, highlighting how this expertise adds both thrill and professional satisfaction to an EM career through medical toxicology training. This talk will be followed by a live Q&A with medical toxicology fellows from the American College of Medical Toxicology (ACMT).\n\nDon’t miss this opportunity to sharpen your approach to high-stakes tox cases and connect with experts in the field!
LOCATION:
UID:e.4594.1440786
SEQUENCE:3
DTSTAMP:20260423T212433Z
URL:https://my.acmt.net/eventcalendar/Details/emra-acmt-webinar-the-crashing-tox-patient-1705960?sourceTypeId=Hub
END:VEVENT
END:VCALENDAR
